BEGIN:VCALENDAR
VERSION:2.0
PRODID:-//hacksw/handcal//NONSGML v1.0//EN
BEGIN:VEVENT
SUMMARY:Seance adultes lundi Rosporden
UID:761acaa4-850e-425b-a231-f9b8f23354a7
DTSTART:20260601T180000Z
DTEND:20260601T200000Z
LOCATION:Mur de Rosporden   
CATEGORIES:Sportif
STATUS:
URL;VALUE=URI:https://www.breizhscalade.com/evenements/2026/06/01/seance-adultes-lundi-rosporden-2421225
END:VEVENT
END:VCALENDAR
