BEGIN:VCALENDAR
VERSION:2.0
PRODID:-//hacksw/handcal//NONSGML v1.0//EN
BEGIN:VEVENT
SUMMARY:Seance adultes mardi Rosporden
UID:5568c574-6504-4f1e-b868-c3278560827e
DTSTART:20260602T183000Z
DTEND:20260602T203000Z
LOCATION:Mur de Rosporden   
CATEGORIES:Sportif
STATUS:
URL;VALUE=URI:https://www.breizhscalade.com/evenements/2026/06/02/seance-adultes-mardi-rosporden-2421212
END:VEVENT
END:VCALENDAR
