BEGIN:VCALENDAR
VERSION:2.0
PRODID:-//hacksw/handcal//NONSGML v1.0//EN
BEGIN:VEVENT
SUMMARY:Echange avec le club de Quimperle
UID:394c4dc1-c5de-47f5-9100-6f30a174d21d
DTSTART:20260604T183000Z
DTEND:20260604T203000Z
LOCATION:Localisation 12 boulevard de la gare 29300 quimperle
CATEGORIES:Sportif
STATUS:
URL;VALUE=URI:https://www.breizhscalade.com/evenements/2026/06/04/echange-avec-le-club-de-quimperle-2423418
END:VEVENT
END:VCALENDAR
