BEGIN:VCALENDAR
VERSION:2.0
PRODID:-//hacksw/handcal//NONSGML v1.0//EN
BEGIN:VEVENT
SUMMARY:Seance adultes jeudi Rosporden
UID:21e09817-bd26-4648-8262-507faf2f01dd
DTSTART:20260604T180000Z
DTEND:20260604T200000Z
LOCATION:Mur de Rosporden   
CATEGORIES:Sportif
STATUS:
URL;VALUE=URI:https://www.breizhscalade.com/evenements/2026/06/04/seance-adultes-jeudi-rosporden-2421240
END:VEVENT
END:VCALENDAR
