BEGIN:VCALENDAR
VERSION:2.0
PRODID:-//hacksw/handcal//NONSGML v1.0//EN
BEGIN:VEVENT
SUMMARY:Seance adultes lundi Rosporden
UID:892fcec6-6423-44df-96cd-39c4774b42ad
DTSTART:20260608T180000Z
DTEND:20260608T200000Z
LOCATION:Mur de Rosporden   
CATEGORIES:Sportif
STATUS:
URL;VALUE=URI:https://www.breizhscalade.com/evenements/2026/06/08/seance-adultes-lundi-rosporden-2421224
END:VEVENT
END:VCALENDAR
