BEGIN:VCALENDAR
VERSION:2.0
PRODID:-//hacksw/handcal//NONSGML v1.0//EN
BEGIN:VEVENT
SUMMARY:Seance adultes mardi Rosporden
UID:7260243b-3193-4808-8c12-abb5e0cfd7f1
DTSTART:20260609T183000Z
DTEND:20260609T203000Z
LOCATION:Mur de Rosporden   
CATEGORIES:Sportif
STATUS:
URL;VALUE=URI:https://www.breizhscalade.com/evenements/2026/06/09/seance-adultes-mardi-rosporden-2421211
END:VEVENT
END:VCALENDAR
