BEGIN:VCALENDAR
VERSION:2.0
PRODID:-//hacksw/handcal//NONSGML v1.0//EN
BEGIN:VEVENT
SUMMARY:Seance adultes jeudi Rosporden
UID:fae8215a-30ef-48df-8588-5f3d5839bd05
DTSTART:20260611T180000Z
DTEND:20260611T200000Z
LOCATION:Mur de Rosporden   
CATEGORIES:Sportif
STATUS:
URL;VALUE=URI:https://www.breizhscalade.com/evenements/2026/06/11/seance-adultes-jeudi-rosporden-2421239
END:VEVENT
END:VCALENDAR
