BEGIN:VCALENDAR
VERSION:2.0
PRODID:-//hacksw/handcal//NONSGML v1.0//EN
BEGIN:VEVENT
SUMMARY:Seance jeunes
UID:2c5eba9c-6d5b-4c61-ac84-440c29bc5e19
DTSTART:20260613T080000Z
DTEND:20260613T100000Z
LOCATION:Mur de Rosporden   
CATEGORIES:Sportif
STATUS:
URL;VALUE=URI:https://www.breizhscalade.com/evenements/2026/06/13/seance-jeunes-2421323
END:VEVENT
END:VCALENDAR
