BEGIN:VCALENDAR
VERSION:2.0
PRODID:-//hacksw/handcal//NONSGML v1.0//EN
BEGIN:VEVENT
SUMMARY:Seance adultes lundi Rosporden
UID:994744c0-5b89-4146-8d23-64b5c3c11119
DTSTART:20260615T180000Z
DTEND:20260615T200000Z
LOCATION:Mur de Rosporden   
CATEGORIES:Sportif
STATUS:
URL;VALUE=URI:https://www.breizhscalade.com/evenements/2026/06/15/seance-adultes-lundi-rosporden-2421219
END:VEVENT
END:VCALENDAR
