BEGIN:VCALENDAR
VERSION:2.0
PRODID:-//hacksw/handcal//NONSGML v1.0//EN
BEGIN:VEVENT
SUMMARY:Seance adultes mardi Rosporden
UID:5184805c-22b2-4cec-bfd1-b4a99c8aadaa
DTSTART:20260616T183000Z
DTEND:20260616T203000Z
LOCATION:Mur de Rosporden   
CATEGORIES:Sportif
STATUS:
URL;VALUE=URI:https://www.breizhscalade.com/evenements/2026/06/16/seance-adultes-mardi-rosporden-2421210
END:VEVENT
END:VCALENDAR
