BEGIN:VCALENDAR
VERSION:2.0
PRODID:-//hacksw/handcal//NONSGML v1.0//EN
BEGIN:VEVENT
SUMMARY:Seance adultes jeudi Rosporden
UID:3a4ac657-3c2c-4f14-af2b-1a020c3d8d04
DTSTART:20260618T180000Z
DTEND:20260618T200000Z
LOCATION:Mur de Rosporden   
CATEGORIES:Sportif
STATUS:
URL;VALUE=URI:https://www.breizhscalade.com/evenements/2026/06/18/seance-adultes-jeudi-rosporden-2421234
END:VEVENT
END:VCALENDAR
