BEGIN:VCALENDAR
VERSION:2.0
PRODID:-//hacksw/handcal//NONSGML v1.0//EN
BEGIN:VEVENT
SUMMARY:Seance jeunes
UID:50cb1ff0-ba88-4984-86c4-15dc97caac7b
DTSTART:20260620T080000Z
DTEND:20260620T100000Z
LOCATION:Mur de Rosporden   
CATEGORIES:Sportif
STATUS:
URL;VALUE=URI:https://www.breizhscalade.com/evenements/2026/06/20/seance-jeunes-2421322
END:VEVENT
END:VCALENDAR
