BEGIN:VCALENDAR
VERSION:2.0
PRODID:-//hacksw/handcal//NONSGML v1.0//EN
BEGIN:VEVENT
SUMMARY:Seance adultes lundi Rosporden
UID:e8cf550b-a8da-42b5-81ca-f6d2e1126920
DTSTART:20260622T180000Z
DTEND:20260622T200000Z
LOCATION:Mur de Rosporden   
CATEGORIES:Sportif
STATUS:
URL;VALUE=URI:https://www.breizhscalade.com/evenements/2026/06/22/seance-adultes-lundi-rosporden-2421217
END:VEVENT
END:VCALENDAR
