BEGIN:VCALENDAR
VERSION:2.0
PRODID:-//hacksw/handcal//NONSGML v1.0//EN
BEGIN:VEVENT
SUMMARY:Seance adultes mardi Rosporden
UID:d7d0e117-4637-4df5-a177-7c89a29c6e7c
DTSTART:20260623T183000Z
DTEND:20260623T203000Z
LOCATION:Mur de Rosporden   
CATEGORIES:Sportif
STATUS:
URL;VALUE=URI:https://www.breizhscalade.com/evenements/2026/06/23/seance-adultes-mardi-rosporden-2421209
END:VEVENT
END:VCALENDAR
