BEGIN:VCALENDAR
VERSION:2.0
PRODID:-//hacksw/handcal//NONSGML v1.0//EN
BEGIN:VEVENT
SUMMARY:Seance adultes jeudi Rosporden
UID:fe7a5988-96dd-472e-8c1c-b304280de7aa
DTSTART:20260625T180000Z
DTEND:20260625T200000Z
LOCATION:Mur de Rosporden   
CATEGORIES:Sportif
STATUS:
URL;VALUE=URI:https://www.breizhscalade.com/evenements/2026/06/25/seance-adultes-jeudi-rosporden-2421232
END:VEVENT
END:VCALENDAR
