BEGIN:VCALENDAR
VERSION:2.0
PRODID:-//hacksw/handcal//NONSGML v1.0//EN
BEGIN:VEVENT
SUMMARY:Seance adultes lundi Rosporden
UID:3c280fb1-0654-4f91-a99e-c97ec8b966b8
DTSTART:20260629T180000Z
DTEND:20260629T200000Z
LOCATION:Mur de Rosporden   
CATEGORIES:Sportif
STATUS:
URL;VALUE=URI:https://www.breizhscalade.com/evenements/2026/06/29/seance-adultes-lundi-rosporden-2421190
END:VEVENT
END:VCALENDAR
