BEGIN:VCALENDAR
VERSION:2.0
PRODID:-//hacksw/handcal//NONSGML v1.0//EN
BEGIN:VEVENT
SUMMARY:Seance adultes mardi Rosporden
UID:0d135917-d670-44de-a858-5ebd6c9c4e5e
DTSTART:20260630T183000Z
DTEND:20260630T203000Z
LOCATION:Mur de Rosporden   
CATEGORIES:Sportif
STATUS:
URL;VALUE=URI:https://www.breizhscalade.com/evenements/2026/06/30/seance-adultes-mardi-rosporden-2421206
END:VEVENT
END:VCALENDAR
